BEGIN:VCALENDAR
VERSION:2.0
PRODID:-//ChamberMaster//Event Calendar 2.0//EN
METHOD:PUBLISH
X-PUBLISHED-TTL:P3D
REFRESH-INTERVAL:P3D
CALSCALE:GREGORIAN
BEGIN:VEVENT
DTSTART:20080528T140000Z
DTEND:20080528T150000Z
X-MICROSOFT-CDO-ALLDAYEVENT:FALSE
SUMMARY:Chamber Breakfast
DESCRIPTION:Chamber Breakfast
X-ALT-DESC;FMTTYPE=text/html:<div>Chamber Breakfast</div>
LOCATION:Tooele County Courthouse47 South Main Street\, TooeleDownstairs Auditorium
UID:e.125.394
SEQUENCE:3
DTSTAMP:20260424T184955Z
URL:https://members.tooelechamber.com/events/details/chamber-breakfast-05-28-2008-394
END:VEVENT

END:VCALENDAR
