BEGIN:VCALENDAR
VERSION:2.0
PRODID:-//ChamberMaster//Event Calendar 2.0//EN
METHOD:PUBLISH
X-PUBLISHED-TTL:P3D
REFRESH-INTERVAL:P3D
CALSCALE:GREGORIAN
BEGIN:VEVENT
DTSTART:20090619T020000Z
DTEND:20090619T030000Z
X-MICROSOFT-CDO-ALLDAYEVENT:FALSE
SUMMARY:Chamber Breakfast
DESCRIPTION:Tooele County Chamber of CommerceEducational Training BreakfastThursday\, June 18th\, 20098 a.m. to 9 a.m.Tooele City Council Chamber Room90 N. Main StreetWe are offering a training class on "Customer Service"We will also talk about our "Come Together Campaign" and how it can help your business.No RSVP needed\, but  would be appreciated\, 435-882-0690. Light breakfast served. No charge for this event.This is a great opportunity for you and your employees.
X-ALT-DESC;FMTTYPE=text/html:<div><div style="text-align: center"><strong>Tooele County Chamber of Commerce</strong></div><div style="text-align: center"><strong>Educational&nbsp\;Training Breakfast</strong></div><div style="text-align: center"><span style="color: #ff0000"><strong>Thursday\, June 18th\, 2009</strong></span></div><div style="text-align: center"><span style="color: #ff0000"><strong>8 a.m. to 9 a.m.</strong></span></div><div style="text-align: center"><strong>Tooele City Council Chamber Room</strong></div><div style="text-align: center"><strong>90 N. Main Street</strong></div><div style="text-align: center"><strong>We&nbsp\;are offering a&nbsp\;training class on &quot\;Customer Service&quot\;</strong></div><div style="text-align: center"><strong>We will also talk about our &quot\;Come Together Campaign&quot\; </strong></div><div style="text-align: center"><strong>and how it can help your business.</strong></div><div style="text-align: center"><strong>No RSVP needed\, but&nbsp\; would be appreciated\, 435-882-0690.</strong></div><div style="text-align: center"><strong>&nbsp\;Light breakfast served. No charge for this event.</strong></div><div style="text-align: center"><strong>This is a great opportunity for&nbsp\;you and your employees.</strong></div></div>
LOCATION:
UID:e.125.2538
SEQUENCE:3
DTSTAMP:20260423T213329Z
URL:https://members.tooelechamber.com/events/details/chamber-breakfast-06-18-2009-2538
END:VEVENT

END:VCALENDAR
