BEGIN:VCALENDAR
VERSION:2.0
PRODID:-//ChamberMaster//Event Calendar 2.0//EN
METHOD:PUBLISH
X-PUBLISHED-TTL:P3D
REFRESH-INTERVAL:P3D
CALSCALE:GREGORIAN
BEGIN:VEVENT
DTSTART:20070329T140000Z
DTEND:20070329T140000Z
X-MICROSOFT-CDO-ALLDAYEVENT:FALSE
SUMMARY:Chamber Breakfast-Disability Law Center
DESCRIPTION:To support the efforts of local businesses that are accessible to people with disabilities\, the Disability Law Center (DLC) is introducing a pilot project in Tooele that will recognize and promote awareness about accessible businesses.  Please join us for a discussion with members of the Tooele Chamber of Commerce on March 29\, 2007 at 8:00 am at Leatherby's Family Creamery located at 61 East 1280 North\, Tooele\;  to learn more about the ADA and provide feedback about the project.
X-ALT-DESC;FMTTYPE=text/html:<p class="MsoNormal" style="MARGIN: 0in 0in 0pt\; LINE-HEIGHT: 150%"><span style="FONT-SIZE: 12pt\; LINE-HEIGHT: 150%\; FONT-FAMILY: Arial">To support the efforts of local businesses that are accessible to people with disabilities\, the Disability Law Center (DLC) is introducing a pilot project in Tooele that will recognize and promote awareness about accessible businesses.<span style="mso-spacerun: yes">&nbsp\; </span>Please join us for a discussion with members of the Tooele Chamber of Commerce on <st1:date w:st="on" ls="trans" month="3" day="29" year="2007">March 29\, 2007</st1:date> at <st1:time w:st="on" hour="8" minute="0">8:00 am</st1:time> at Leatherby&rsquo\;s Family Creamery located at 61 East 1280 North\, Tooele\; <span style="mso-spacerun: yes">&nbsp\;</span>to learn more about the <st1:place w:st="on"><st1:city w:st="on">ADA</st1:city></st1:place> and provide feedback about the project.<o:p></o:p></span></p>
LOCATION:Leatherby's Family Creamery: 61 East 1280 North \, Tooele
UID:e.125.61
SEQUENCE:3
DTSTAMP:20260425T155319Z
URL:https://members.tooelechamber.com/events/details/chamber-breakfast-disability-law-center-03-29-2007-61
END:VEVENT

END:VCALENDAR
