BEGIN:VCALENDAR
VERSION:2.0
PRODID:-//ChamberMaster//Event Calendar 2.0//EN
METHOD:PUBLISH
X-PUBLISHED-TTL:P3D
REFRESH-INTERVAL:P3D
CALSCALE:GREGORIAN
BEGIN:VEVENT
DTSTART;VALUE=DATE:20070308
DTEND;VALUE=DATE:20070309
TRANSP:TRANSPARENT
X-MICROSOFT-CDO-ALLDAYEVENT:TRUE
SUMMARY:Chamber Breakfast Meeting
DESCRIPTION:You are invited to attend a special breakfast meeting with Dr. J. David Hawkins\, developer of the Communities that Care  program. Tooele County is fortunate to have this nationally known doctor and researcher speak to our community. \nDr. J. David Hawkins' research focuses on understanding and preventing child and adolescent health and behavior problems. He seeks to identify risk and protective factors for health and behavior problems across multiple domains\; to understand how these factors interact in the development or prevention of problem behaviors\; and to test comprehensive prevention strategies which seek to reduce risk through the enhancement of strengths and protective factors in families\, schools\, peer groups and communities.\nCommunities that Care  is an important part of our community in identifying risk  factors for our youth and presenting tested effective programs like Guiding Good Choices \, Lions-Quest Skills for Adolescence\, and Life Skills Training to reduce these risks.
X-ALT-DESC;FMTTYPE=text/html:<font face="Times New Roman" size="3"><span style="FONT-SIZE: 12pt"><div><font size="3"><p class="MsoNormal" style="MARGIN: 0in 0in 0pt">You are invited to attend a special breakfast meeting with Dr. J. David Hawkins\, developer of the Communities that Care&reg\; program. <st1:place w:st="on"><st1:placename w:st="on">Tooele</st1:placename> <st1:placetype w:st="on">County</st1:placetype></st1:place> is fortunate to have this nationally known doctor and researcher speak to our community. <br />Dr. J. David Hawkins' research focuses on understanding and preventing child and adolescent health and behavior problems. He seeks to identify risk and protective factors for health and behavior problems across multiple domains\; to understand how these factors interact in the development or prevention of problem behaviors\; and to test comprehensive prevention strategies which seek to reduce risk through the enhancement of strengths and protective factors in families\, schools\, peer groups and communities.<br />Communities that Care&reg\; is an important part of our community in identifying risk &nbsp\;factors for our youth and presenting tested effective programs like Guiding Good Choices&reg\;\, Lions-Quest Skills for Adolescence\, and Life Skills Training to reduce these risks. <o:p></o:p></p></font></div></span></font>
LOCATION:Tooele City Hall\, Council Chambers 90 North Main
UID:e.125.56
SEQUENCE:3
DTSTAMP:20260425T155251Z
URL:https://members.tooelechamber.com/events/details/chamber-breakfast-meeting-03-08-2007-56
END:VEVENT

END:VCALENDAR
