BEGIN:VCALENDAR
VERSION:2.0
PRODID:-//ChamberMaster//Event Calendar 2.0//EN
METHOD:PUBLISH
X-PUBLISHED-TTL:P3D
REFRESH-INTERVAL:P3D
CALSCALE:GREGORIAN
BEGIN:VEVENT
DTSTART:20120607T233000Z
DTEND:20120608T010000Z
X-MICROSOFT-CDO-ALLDAYEVENT:FALSE
SUMMARY:Chamber Business Networking Event
DESCRIPTION:Chamber Business Networking Event\n\n	154 South Main\, Tooele\n\n	5:30 pm- 7 pm\n\n	Free Networking and Prizes!!\n\n	Hosted by:\n\n	Fret-Less Violin\n\n	Love'em & Leave'em Pet Sitting\n\n	The Curtis Foundation\n\n	George Terra-Scentsy Consultant
X-ALT-DESC;FMTTYPE=text/html:<p>\n	<strong><span style="font-size: 18px"><u>Chamber Business Networking Event</u><br />\n	154 South Main\, Tooele<br />\n	5:30 pm- 7 pm<br />\n	Free Networking and Prizes!!</span></strong></p>\n<p>\n	<strong><span style="font-size: 18px">Hosted by:<br />\n	Fret-Less Violin<br />\n	Love&#39\;em &amp\; Leave&#39\;em Pet Sitting<br />\n	The Curtis Foundation<br />\n	George Terra-Scentsy Consultant</span></strong></p>\n
LOCATION:
UID:e.125.4852
SEQUENCE:3
DTSTAMP:20260421T122109Z
URL:https://members.tooelechamber.com/events/details/chamber-business-networking-event-06-07-2012-4852
END:VEVENT

END:VCALENDAR
