BEGIN:VCALENDAR
VERSION:2.0
PRODID:-//ChamberMaster//Event Calendar 2.0//EN
METHOD:PUBLISH
X-PUBLISHED-TTL:P3D
REFRESH-INTERVAL:P3D
CALSCALE:GREGORIAN
BEGIN:VEVENT
DTSTART:20081008T180000Z
DTEND:20081008T190000Z
X-MICROSOFT-CDO-ALLDAYEVENT:FALSE
SUMMARY:Chamber Candidates Luncheon
DESCRIPTION:Wednesday\, October 8th- 12- 1 pm\nSponsor: EnergySolutions\nCandidates Luncheon\nSpeakers: Candidates\nPlace: Tracks Restaurant\n1641 No. Main\, Tooele\nChamber members-$10\nNon-members-$15\nPlease RSVP by October 6th by 5 pm\n435-882-0690
X-ALT-DESC;FMTTYPE=text/html:<p align="center"><font face="times new roman\,times" size="4">Wednesday\,&nbsp\;October 8th- 12- 1 pm<br />Sponsor: EnergySolutions<br /><font size="5">Candidates Luncheon<br />Speakers: Candidates</font></font><font face="times new roman\,times" size="4"><br />Place: Tracks Restaurant<br />1641 No. Main\, Tooele<br />Chamber members-$10<br />Non-members-$15<br />Please RSVP by October 6th by 5 pm<br />435-882-0690</font></p><p>&nbsp\;</p>
LOCATION:
UID:e.125.466
SEQUENCE:3
DTSTAMP:20260424T122710Z
URL:https://members.tooelechamber.com/events/details/chamber-candidates-luncheon-10-08-2008-466
END:VEVENT

END:VCALENDAR
