BEGIN:VCALENDAR
VERSION:2.0
PRODID:-//ChamberMaster//Event Calendar 2.0//EN
METHOD:PUBLISH
X-PUBLISHED-TTL:P3D
REFRESH-INTERVAL:P3D
CALSCALE:GREGORIAN
BEGIN:VEVENT
DTSTART:20091014T180000Z
DTEND:20091014T190000Z
X-MICROSOFT-CDO-ALLDAYEVENT:FALSE
SUMMARY:Chamber Candidates Luncheon
DESCRIPTION:Candidates Luncheon Wednesday\, October 14th12 - 1:30 pmSponsor: Energy SolutionsSpeakers: Tooele City Candidates & Grantsville City Candidates\nTooele Army DepotThe Eagles Nest\n Please RSVP by Monday\, October 9th by 5 pm\n 435-882-0690$10 per person
X-ALT-DESC;FMTTYPE=text/html:<div align="center"><u><span style="font-size: large">Candidates Luncheon&nbsp\;</span></u></div><div align="center"><span style="color: #ff0000"><span style="font-size: medium">Wednesday\,&nbsp\;October&nbsp\;14th</span></span></div><div align="center"><span style="color: #ff0000"><span style="font-size: medium">12 - 1:30 pm</span></span></div><div align="center"><span style="font-size: medium">Sponsor:&nbsp\;Energy Solutions</span></div><div align="center"><span style="font-size: medium">Speakers: Tooele City Candidates &amp\; </span></div><div align="center"><span style="font-size: medium">Grantsville City Candidates<br />Tooele Army Depot</span></div><div align="center"><span style="font-size: medium">The Eagles Nest<br />&nbsp\;</span><span style="background-color: #ffff00"><span style="font-size: medium">Please RSVP by Monday\,&nbsp\;October 9th by 5 pm<br />&nbsp\;435-882-0690</span></span></div><div align="center"><span style="background-color: #ffff00"><span style="font-size: medium">$10 per person</span></span></div>
LOCATION:
UID:e.125.520
SEQUENCE:3
DTSTAMP:20260423T150534Z
URL:https://members.tooelechamber.com/events/details/chamber-candidates-luncheon-10-14-2009-520
END:VEVENT

END:VCALENDAR
