BEGIN:VCALENDAR
VERSION:2.0
PRODID:-//ChamberMaster//Event Calendar 2.0//EN
METHOD:PUBLISH
X-PUBLISHED-TTL:P3D
REFRESH-INTERVAL:P3D
CALSCALE:GREGORIAN
BEGIN:VEVENT
DTSTART:20091209T180000Z
DTEND:20091209T210000Z
X-MICROSOFT-CDO-ALLDAYEVENT:FALSE
SUMMARY:Chamber Christmas Open House
DESCRIPTION:Tooele County Chamber of Commerce \nChristmas Open House \n Wednesday\, December 9th\n 11 am to 2 pm \n Deseret Peak Complex\n Convention Center \n 2930 W. Hwy 112\, Tooele \n Contact: 435-882-0690
X-ALT-DESC;FMTTYPE=text/html:<div><font face="Frutiger-LightCn" size="1"><font face="Frutiger-LightCn" size="1"><p align="center"><font size="4">&nbsp\;<font face="Arial" size="2"><font face="Times New Roman" size="4"><b>Tooele County Chamber of Commerce <br /><u>Christmas Open House </u></b><br />&nbsp\;Wednesday\, December 9th<br />&nbsp\;11 am to 2 pm <br />&nbsp\;Deseret Peak Complex<br />&nbsp\;Convention Center <br />&nbsp\;2930 W. Hwy 112\, Tooele <br />&nbsp\;Contact: 435-882-0690 </font></font></font></p><p align="left">&nbsp\;</p><p align="left">&nbsp\;</p></font></font></div>
LOCATION:
UID:e.125.510
SEQUENCE:3
DTSTAMP:20260423T134214Z
URL:https://members.tooelechamber.com/events/details/chamber-christmas-open-house-12-09-2009-510
END:VEVENT

END:VCALENDAR
