BEGIN:VCALENDAR
VERSION:2.0
PRODID:-//ChamberMaster//Event Calendar 2.0//EN
METHOD:PUBLISH
X-PUBLISHED-TTL:P3D
REFRESH-INTERVAL:P3D
CALSCALE:GREGORIAN
BEGIN:VEVENT
DTSTART;VALUE=DATE:20071212
DTEND;VALUE=DATE:20071213
TRANSP:TRANSPARENT
X-MICROSOFT-CDO-ALLDAYEVENT:TRUE
SUMMARY:Chamber Christmas Open House
DESCRIPTION:Come and join us for the annual Chamber Christmas Open House!
X-ALT-DESC;FMTTYPE=text/html:Come and join us for the annual Chamber Christmas Open House!
LOCATION:
UID:e.125.89
SEQUENCE:3
DTSTAMP:20260425T022621Z
URL:https://members.tooelechamber.com/events/details/chamber-christmas-open-house-12-12-2007-89
END:VEVENT

END:VCALENDAR
