BEGIN:VCALENDAR
VERSION:2.0
PRODID:-//ChamberMaster//Event Calendar 2.0//EN
METHOD:PUBLISH
X-PUBLISHED-TTL:P3D
REFRESH-INTERVAL:P3D
CALSCALE:GREGORIAN
BEGIN:VEVENT
DTSTART;VALUE=DATE:20101231
DTEND;VALUE=DATE:20110101
TRANSP:TRANSPARENT
X-MICROSOFT-CDO-ALLDAYEVENT:TRUE
SUMMARY:Chamber Closed for New Year's Eve
DESCRIPTION:The Chamber Office will be closed\n\n	Friday\, December 31st for the New Year holiday!
X-ALT-DESC;FMTTYPE=text/html:<p style="text-align: center">\n	<span style="font-size: 22px">The Chamber Office will be closed<br />\n	Friday\, December 31st for the New Year holiday! </span></p>\n
LOCATION:
UID:e.125.3303
SEQUENCE:3
DTSTAMP:20260422T185126Z
URL:https://members.tooelechamber.com/events/details/chamber-closed-for-new-year-s-eve-12-31-2010-3303
END:VEVENT

END:VCALENDAR
