BEGIN:VCALENDAR
VERSION:2.0
PRODID:-//ChamberMaster//Event Calendar 2.0//EN
METHOD:PUBLISH
X-PUBLISHED-TTL:P3D
REFRESH-INTERVAL:P3D
CALSCALE:GREGORIAN
BEGIN:VEVENT
DTSTART;VALUE=DATE:20120220
DTEND;VALUE=DATE:20120221
TRANSP:TRANSPARENT
X-MICROSOFT-CDO-ALLDAYEVENT:TRUE
SUMMARY:Chamber Closed for the Holiday
DESCRIPTION:Chamber Closed For the Holiday\n\nWashington's Birthday
X-ALT-DESC;FMTTYPE=text/html:<strong><span style="font-size: 20px">Chamber Closed For the Holiday<br />\nWashington&#39\;s Birthday</span></strong>
LOCATION:
UID:e.125.4724
SEQUENCE:3
DTSTAMP:20260421T190012Z
URL:https://members.tooelechamber.com/events/details/chamber-closed-for-the-holiday-02-20-2012-4724
END:VEVENT

END:VCALENDAR
