BEGIN:VCALENDAR
VERSION:2.0
PRODID:-//ChamberMaster//Event Calendar 2.0//EN
METHOD:PUBLISH
X-PUBLISHED-TTL:P3D
REFRESH-INTERVAL:P3D
CALSCALE:GREGORIAN
BEGIN:VEVENT
DTSTART;VALUE=DATE:20120704
DTEND;VALUE=DATE:20120705
TRANSP:TRANSPARENT
X-MICROSOFT-CDO-ALLDAYEVENT:TRUE
SUMMARY:Chamber Closed For the Holiday
DESCRIPTION:Chamber office will be Closed for 4th July\n\nCome to our Breakfast at Veteran's Memorial Park\n\nWed. July 4\, 2012 @ 7 am- 8:30 am\n\n$5 for adults & $3 for children 10 and under
X-ALT-DESC;FMTTYPE=text/html:<span style="font-size: 20px"><strong>Chamber office will be Closed for 4th July<br />\nCome to our Breakfast at Veteran&#39\;s Memorial Park<br />\nWed. July 4\, 2012 @ 7 am- 8:30 am<br />\n$5 for adults &amp\; $3 for children 10 and under</strong></span>
LOCATION:
UID:e.125.4726
SEQUENCE:3
DTSTAMP:20260421T122353Z
URL:https://members.tooelechamber.com/events/details/chamber-closed-for-the-holiday-07-04-2012-4726
END:VEVENT

END:VCALENDAR
