BEGIN:VCALENDAR
VERSION:2.0
PRODID:-//ChamberMaster//Event Calendar 2.0//EN
METHOD:PUBLISH
X-PUBLISHED-TTL:P3D
REFRESH-INTERVAL:P3D
CALSCALE:GREGORIAN
BEGIN:VEVENT
DTSTART;VALUE=DATE:20100827
DTEND;VALUE=DATE:20100828
TRANSP:TRANSPARENT
X-MICROSOFT-CDO-ALLDAYEVENT:TRUE
SUMMARY:Chamber Community Charity BBQ
DESCRIPTION:Tooele County Chamber of CommerceCommunity Charity BBQAugust 27th @ 6 pmTooele City ParkHot dog 0r Hamburger\, Chips\, Drink & a Treat$1.00 or a can of FoodWill be held in conjunction with Fridays on VineContact: 435-882-0690www.tooelechamber.com
X-ALT-DESC;FMTTYPE=text/html:<div><font size="3"><font face="Frutiger-LightCn" size="1"><font face="Frutiger-LightCn" size="1"><p align="center"><font size="4">Tooele County Chamber of Commerce</font></p><p align="center"><font size="4">Community Charity BBQ</font></p><p align="center"><font size="4">August 27th @ 6 pm</font></p><p align="center"><font size="4">Tooele City Park</font></p><p align="center"><font size="4">Hot dog 0r Hamburger\, Chips\, Drink &amp\; a Treat</font></p><p align="center"><font size="4">$1.00 or a can of Food</font></p><p align="center"><font size="4">Will be held in conjunction with Fridays on Vine</font></p><p align="center"><font size="4">Contact: 435-882-0690</font></p><p align="center"><font size="4">www.tooelechamber.com</font></p></font></font></font></div>
LOCATION:
UID:e.125.507
SEQUENCE:3
DTSTAMP:20260422T234405Z
URL:https://members.tooelechamber.com/events/details/chamber-community-charity-bbq-08-27-2010-507
END:VEVENT

END:VCALENDAR
