BEGIN:VCALENDAR
VERSION:2.0
PRODID:-//ChamberMaster//Event Calendar 2.0//EN
METHOD:PUBLISH
X-PUBLISHED-TTL:P3D
REFRESH-INTERVAL:P3D
CALSCALE:GREGORIAN
BEGIN:VEVENT
DTSTART:20090826T140000Z
DTEND:20090826T150000Z
X-MICROSOFT-CDO-ALLDAYEVENT:FALSE
SUMMARY:Chamber Educational Breakfast
DESCRIPTION:Chamber Educational Breakfast Wednesday\, August 26th 8am-9amTooele City Hall Council Chambers90 North Main\, TooelePresenter: Larry SilvaTopic: How to develop effective & rewarding customer rapport & retention
X-ALT-DESC;FMTTYPE=text/html:<div><b><font size="3"><p style="text-align: center"><span id="1249488472777S" style="display: none">&nbsp\;</span><span style="font-size: small"><span id="1249488460128S" style="display: none">&nbsp\;</span>Chamber Educational Breakfast</span><span id="1249488474274S" style="display: none">&nbsp\;</span></p></font><font face="Myriad Roman\,Myriad Roman" size="2"><font face="Myriad Roman\,Myriad Roman" size="2"><p style="text-align: center">Wednesday\, August 26th 8am-9am</p><p style="text-align: center">Tooele City Hall Council Chambers</p><p style="text-align: center">90 North Main\, Tooele</p><p style="text-align: center">Presenter: Larry Silva</p><p style="text-align: center">Topic: How to develop effective &amp\; rewarding customer rapport &amp\; retention<span id="1249488460386E" style="display: none">&nbsp\;</span><span id="1249488474646E" style="display: none">&nbsp\;</span><span id="1249488472370E" style="display: none">&nbsp\;</span></p></font></font></b></div>
LOCATION:
UID:e.125.2556
SEQUENCE:3
DTSTAMP:20260423T181555Z
URL:https://members.tooelechamber.com/events/details/chamber-educational-breakfast-08-26-2009-2556
END:VEVENT

END:VCALENDAR
