BEGIN:VCALENDAR
VERSION:2.0
PRODID:-//ChamberMaster//Event Calendar 2.0//EN
METHOD:PUBLISH
X-PUBLISHED-TTL:P3D
REFRESH-INTERVAL:P3D
CALSCALE:GREGORIAN
BEGIN:VEVENT
DTSTART:20100518T180000Z
DTEND:20100518T190000Z
X-MICROSOFT-CDO-ALLDAYEVENT:FALSE
SUMMARY:Chamber Educational Meeting
DESCRIPTION:Chamber Educational Meetings"Making the most of your Chamber Membership"We will teach you all about the many benefits of being a Chamber memberTuesday\, May 18th @ 8-9am and 12-1pmTooele County Emergency Management BldgSame information at both meeting times\,choose which time works best for youNo charge for this event!
X-ALT-DESC;FMTTYPE=text/html:<div><div><p class="MsoNormal" style="text-align: center\; margin: 0in 0in 0pt"><span style="font-size: large"><strong><u><font face="Calibri">Chamber Educational Meetings</font></u></strong></span></p><p class="MsoNormal" style="text-align: center\; margin: 0in 0in 0pt"><span style="font-size: medium"><font face="Calibri">&quot\;Making the most of your Chamber Membership&quot\;</font></span></p><p class="MsoNormal" style="text-align: center\; margin: 0in 0in 0pt"><span style="font-size: medium"><font face="Calibri">We will teach you all about the many benefits </font></span></p><p class="MsoNormal" style="text-align: center\; margin: 0in 0in 0pt"><span style="font-size: medium"><font face="Calibri">of being a Chamber member</font></span></p><p class="MsoNormal" style="text-align: center\; margin: 0in 0in 0pt"><span style="font-size: medium"><font face="Calibri">Tuesday\, May 18<sup>th</sup></font></span> @ <span style="font-size: medium"><font face="Calibri">8-9am and 12-1pm</font></span></p><p class="MsoNormal" style="text-align: center\; margin: 0in 0in 0pt"><span style="font-size: medium"><font face="Calibri">Tooele County Emergency Management Bldg</font></span></p><p class="MsoNormal" style="text-align: center\; margin: 0in 0in 0pt"><span style="font-size: medium"><font face="Calibri">Same information at both meeting times\,</font></span></p><p class="MsoNormal" style="text-align: center\; margin: 0in 0in 0pt"><span style="font-size: medium"><font face="Calibri">choose which time works best for you</font></span></p><p class="MsoNormal" style="text-align: center\; margin: 0in 0in 0pt"><span style="font-size: medium"><font face="Calibri">No charge for this event!</font></span></p></div></div>
LOCATION:
UID:e.125.3152
SEQUENCE:3
DTSTAMP:20260423T062300Z
URL:https://members.tooelechamber.com/events/details/chamber-educational-meeting-05-18-2010-3152
END:VEVENT

END:VCALENDAR
