BEGIN:VCALENDAR
VERSION:2.0
PRODID:-//ChamberMaster//Event Calendar 2.0//EN
METHOD:PUBLISH
X-PUBLISHED-TTL:P3D
REFRESH-INTERVAL:P3D
CALSCALE:GREGORIAN
BEGIN:VEVENT
DTSTART;VALUE=DATE:20120615
DTEND;VALUE=DATE:20120616
TRANSP:TRANSPARENT
X-MICROSOFT-CDO-ALLDAYEVENT:TRUE
SUMMARY:Chamber Golf Tournament
DESCRIPTION:Chamber Golf Tournament\n\nFriday\, June 15\, 2012\n\n@ Oquirrh Hills Golf Course\n\n1255 East Vine Street\, Tooele\n\nParticipants($400 for a team of 4 or $100 per person)\n\nPlease Call the Chamber Office 435-882-0690 or email staff@tooelechamber.com
X-ALT-DESC;FMTTYPE=text/html:<span style="font-size: 20px"><strong>Chamber Golf Tournament<br />\nFriday\, June 15\, 2012<br />\n@ Oquirrh Hills Golf Course<br />\n1255 East Vine Street\, Tooele<br />\nParticipants($400 for a team of 4 or $100 per person)<br />\nPlease Call the Chamber Office 435-882-0690 or email staff@tooelechamber.com</strong></span>
LOCATION:
UID:e.125.4647
SEQUENCE:3
DTSTAMP:20260421T140735Z
URL:https://members.tooelechamber.com/events/details/chamber-golf-tournament-06-15-2012-4647
END:VEVENT

END:VCALENDAR
