BEGIN:VCALENDAR
VERSION:2.0
PRODID:-//ChamberMaster//Event Calendar 2.0//EN
METHOD:PUBLISH
X-PUBLISHED-TTL:P3D
REFRESH-INTERVAL:P3D
CALSCALE:GREGORIAN
BEGIN:VEVENT
DTSTART:20120129T013000Z
DTEND:20120129T050000Z
X-MICROSOFT-CDO-ALLDAYEVENT:FALSE
SUMMARY:Chamber Installation Banquet
DESCRIPTION:Chamber Installation Banquet\n\n	January 28th\, 2012\n\n	@ Deseret Peak Complex\n\n	    6:30pm
X-ALT-DESC;FMTTYPE=text/html:<p style="text-align: center">\n	<span style="font-size: 20px"><strong>Chamber Installation Banquet<br />\n	January 28th\, 2012<br />\n	@ Deseret Peak Complex<br />\n	&nbsp\;&nbsp\;&nbsp\;&nbsp\;6:30pm</strong></span></p>
LOCATION:
UID:e.125.3951
SEQUENCE:3
DTSTAMP:20260421T203239Z
URL:https://members.tooelechamber.com/events/details/chamber-installation-banquet-01-28-2012-3951
END:VEVENT

END:VCALENDAR
