BEGIN:VCALENDAR
VERSION:2.0
PRODID:-//ChamberMaster//Event Calendar 2.0//EN
METHOD:PUBLISH
X-PUBLISHED-TTL:P3D
REFRESH-INTERVAL:P3D
CALSCALE:GREGORIAN
BEGIN:VEVENT
DTSTART:20070613T180000Z
DTEND:20070613T190000Z
X-MICROSOFT-CDO-ALLDAYEVENT:FALSE
SUMMARY:Chamber June Luncheon
DESCRIPTION:Chamber Monthly Luncheon\nSponsor:  Tooele City\nSpeaker: Tooele City\nPlace:  Buddy's Family Entertainment Center\n*Catered By: Jo To Go\nCost:  $10 per person\nPlease RSVP to Chamber Office 435-882-0690 by Monday\, June 11\, 5pm
X-ALT-DESC;FMTTYPE=text/html:<p>Chamber Monthly Luncheon<br />Sponsor:&nbsp\; Tooele City<br />Speaker:&nbsp\;Tooele City<br />Place:&nbsp\; Buddy's Family Entertainment Center<br />*Catered By: Jo To Go<br />Cost:&nbsp\; $10 per person<br />Please RSVP to Chamber Office 435-882-0690 by Monday\, June 11\, 5pm</p>
LOCATION:Buddy's Family Entertainment Center
UID:e.125.96
SEQUENCE:3
DTSTAMP:20260425T114015Z
URL:https://members.tooelechamber.com/events/details/chamber-june-luncheon-06-13-2007-96
END:VEVENT

END:VCALENDAR
