BEGIN:VCALENDAR
VERSION:2.0
PRODID:-//ChamberMaster//Event Calendar 2.0//EN
METHOD:PUBLISH
X-PUBLISHED-TTL:P3D
REFRESH-INTERVAL:P3D
CALSCALE:GREGORIAN
BEGIN:VEVENT
DTSTART:20120919T180000Z
DTEND:20120919T190000Z
X-MICROSOFT-CDO-ALLDAYEVENT:FALSE
SUMMARY:Chamber Lunceon
DESCRIPTION:Chamber Luncheon\n\nWednesday\, September 19th @ 12 Noon\n\n@ Oquirrh Hill Golf Course\n\n1255 East Vine Street\, Tooele\n\nHosted by: Tooele City\n\nRSVP By Monday\, September 17 @ 5 pm\n\n$10 for members and $15 for non-members
X-ALT-DESC;FMTTYPE=text/html:<span style="font-size: 18px"><u>Chamber Luncheon</u><br />\nWednesday\, September 19th @ 12 Noon<br />\n@ Oquirrh Hill Golf Course<br />\n1255 East Vine Street\, Tooele<br />\nHosted by: Tooele City<br />\nRSVP By Monday\, September 17 @ 5 pm<br />\n$10 for members and $15 for non-members</span>
LOCATION:
UID:e.125.4866
SEQUENCE:3
DTSTAMP:20260421T070956Z
URL:https://members.tooelechamber.com/events/details/chamber-lunceon-09-19-2012-4866
END:VEVENT

END:VCALENDAR
