BEGIN:VCALENDAR
VERSION:2.0
PRODID:-//ChamberMaster//Event Calendar 2.0//EN
METHOD:PUBLISH
X-PUBLISHED-TTL:P3D
REFRESH-INTERVAL:P3D
CALSCALE:GREGORIAN
BEGIN:VEVENT
DTSTART:20120208T190000Z
DTEND:20120208T200000Z
X-MICROSOFT-CDO-ALLDAYEVENT:FALSE
SUMMARY:Chamber Luncheon
DESCRIPTION:Chamber Luncheon\n\n12:00 Noon- 1 p.m\n\nHost : Rise Services\n\n154 South Main
X-ALT-DESC;FMTTYPE=text/html:<span style="font-size: 20px"><strong>Chamber Luncheon<br />\n12:00 Noon- 1 p.m<br />\nHost : Rise Services<br />\n154 South Main</strong></span><br />\n
LOCATION:
UID:e.125.4624
SEQUENCE:3
DTSTAMP:20260421T185648Z
URL:https://members.tooelechamber.com/events/details/chamber-luncheon-02-08-2012-4624
END:VEVENT

END:VCALENDAR
