BEGIN:VCALENDAR
VERSION:2.0
PRODID:-//ChamberMaster//Event Calendar 2.0//EN
METHOD:PUBLISH
X-PUBLISHED-TTL:P3D
REFRESH-INTERVAL:P3D
CALSCALE:GREGORIAN
BEGIN:VEVENT
DTSTART;VALUE=DATE:20100210
DTEND;VALUE=DATE:20100211
TRANSP:TRANSPARENT
X-MICROSOFT-CDO-ALLDAYEVENT:TRUE
SUMMARY:Chamber Luncheon
DESCRIPTION:February 10\, 2010 \nSponsor: Dugway Proving Grounds\nLocation: TBD\nTime: Noon - 1 pm \nCost: $10.00 Members\, \n$15.00 Non-Members
X-ALT-DESC;FMTTYPE=text/html:<div><div style="text-align: center"><span style="font-size: medium">February&nbsp\;10\, 2010 <br />Sponsor: Dugway Proving Grounds<br />Location: TBD<br />Time: Noon - 1 pm <br />Cost: $10.00 Members\, <br />$15.00 Non-Members</span></div></div>
LOCATION:
UID:e.125.2598
SEQUENCE:3
DTSTAMP:20260423T092141Z
URL:https://members.tooelechamber.com/events/details/chamber-luncheon-02-10-2010-2598
END:VEVENT

END:VCALENDAR
