BEGIN:VCALENDAR
VERSION:2.0
PRODID:-//ChamberMaster//Event Calendar 2.0//EN
METHOD:PUBLISH
X-PUBLISHED-TTL:P3D
REFRESH-INTERVAL:P3D
CALSCALE:GREGORIAN
BEGIN:VEVENT
DTSTART:20080213T190000Z
DTEND:20080213T190000Z
X-MICROSOFT-CDO-ALLDAYEVENT:FALSE
SUMMARY:Chamber Luncheon
DESCRIPTION:Chamber's Monthly Luncheon
X-ALT-DESC;FMTTYPE=text/html:<div>Chamber's Monthly Luncheon</div>
LOCATION:Eagles Lodge (Upstairs)50 South 1st StreetTooele
UID:e.125.227
SEQUENCE:3
DTSTAMP:20260424T232024Z
URL:https://members.tooelechamber.com/events/details/chamber-luncheon-02-13-2008-227
END:VEVENT

END:VCALENDAR
