BEGIN:VCALENDAR
VERSION:2.0
PRODID:-//ChamberMaster//Event Calendar 2.0//EN
METHOD:PUBLISH
X-PUBLISHED-TTL:P3D
REFRESH-INTERVAL:P3D
CALSCALE:GREGORIAN
BEGIN:VEVENT
DTSTART:20120222T190000Z
DTEND:20120222T200000Z
X-MICROSOFT-CDO-ALLDAYEVENT:FALSE
SUMMARY:Chamber Luncheon
DESCRIPTION:Chamber Luncheon\n\n12:00 noon - 1 p.m.\n\nHost : Tooele Jr. High\n\n411 W Vine Street
X-ALT-DESC;FMTTYPE=text/html:<span style="font-size: 20px"><strong>Chamber Luncheon<br />\n12:00 noon - 1 p.m.<br />\nHost :&nbsp\;Tooele Jr. High<br />\n411 W Vine Street</strong></span>
LOCATION:
UID:e.125.4625
SEQUENCE:3
DTSTAMP:20260421T185815Z
URL:https://members.tooelechamber.com/events/details/chamber-luncheon-02-22-2012-4625
END:VEVENT

END:VCALENDAR
