BEGIN:VCALENDAR
VERSION:2.0
PRODID:-//ChamberMaster//Event Calendar 2.0//EN
METHOD:PUBLISH
X-PUBLISHED-TTL:P3D
REFRESH-INTERVAL:P3D
CALSCALE:GREGORIAN
BEGIN:VEVENT
DTSTART:20100224T190000Z
DTEND:20100224T200000Z
X-MICROSOFT-CDO-ALLDAYEVENT:FALSE
SUMMARY:Chamber Luncheon
DESCRIPTION:February 24\, 2010 \nSponsor: Come Together Campaign Committee\nLocation: Deseret Peak Convention Center2930 W. Hwy 112\, TooeleMust enter through the West Entrance\nTime: Noon - 1 pm \nCost: $10.00 Members\, \n$15.00 Non-Members
X-ALT-DESC;FMTTYPE=text/html:<div><div style="text-align: center"><span style="font-size: medium">February 24\, 2010 <br />Sponsor: Come Together Campaign Committee<br />Location: Deseret Peak Convention Center</span></div><div style="text-align: center"><span style="font-size: medium">2930 W. Hwy 112\, Tooele</span></div><div style="text-align: center"><span style="font-size: medium">Must enter through the West Entrance<br />Time: Noon - 1 pm <br />Cost: $10.00 Members\, <br />$15.00 Non-Members</span></div></div>
LOCATION:
UID:e.125.2620
SEQUENCE:3
DTSTAMP:20260423T092117Z
URL:https://members.tooelechamber.com/events/details/chamber-luncheon-02-24-2010-2620
END:VEVENT

END:VCALENDAR
