BEGIN:VCALENDAR
VERSION:2.0
PRODID:-//ChamberMaster//Event Calendar 2.0//EN
METHOD:PUBLISH
X-PUBLISHED-TTL:P3D
REFRESH-INTERVAL:P3D
CALSCALE:GREGORIAN
BEGIN:VEVENT
DTSTART:20110309T190000Z
DTEND:20110309T200000Z
X-MICROSOFT-CDO-ALLDAYEVENT:FALSE
SUMMARY:Chamber Luncheon
DESCRIPTION:Chamber Luncheon \n\n	Wednesday\, March 9\, 2011 from 12-1pm \n\n	Sponsor: Tooele County Health Department \n\n	Diabetes Awareness \n\n	Location: Deseret Peak Convention Center\n\n	2930 West Hwy 112\, Tooele \n\n	$10 members\, $15 non-members \n\n	Please RSVP Monday\, March 7th by 5pm\n\n	Chamber Office 435-882-0690
X-ALT-DESC;FMTTYPE=text/html:<p align="center" class="MsoNormal" style="text-align: center\; line-height: normal\; margin: 0in 0in 0pt">\n	<b style="mso-bidi-font-weight: normal"><u><span style="font-family: 'tahoma'\, 'sans-serif'\; font-size: 14pt"><font color="#000000">Chamber Luncheon </font></span></u></b></p>\n<p align="center" class="MsoNormal" style="text-align: center\; line-height: normal\; margin: 0in 0in 0pt">\n	<span style="font-family: 'tahoma'\, 'sans-serif'\; font-size: 14pt"><font color="#000000">Wednesday\, March 9\, 2011 from 12-1pm </font></span></p>\n<p align="center" class="MsoNormal" style="text-align: center\; line-height: normal\; margin: 0in 0in 0pt">\n	<span style="font-family: 'tahoma'\, 'sans-serif'\; font-size: 14pt"><font color="#000000">Sponsor: Tooele County Health Department </font></span></p>\n<p align="center" class="MsoNormal" style="text-align: center\; line-height: normal\; margin: 0in 0in 0pt">\n	<span style="font-family: 'tahoma'\, 'sans-serif'\; font-size: 14pt"><font color="#000000">Diabetes Awareness </font></span><br />\n	<span style="font-family: 'tahoma'\, 'sans-serif'\; font-size: 14pt"><font color="#000000">Location:&nbsp\;Deseret Peak Convention Center<br />\n	2930 West Hwy 112</font></span><span style="font-family: 'tahoma'\, 'sans-serif'\; font-size: 14pt"><font color="#000000">\, Tooele </font></span></p>\n<p align="center" class="MsoNormal" style="text-align: center\; line-height: normal\; margin: 0in 0in 0pt">\n	<span style="font-family: 'tahoma'\, 'sans-serif'\; font-size: 14pt"><font color="#000000">$10 members\, $15 non-members </font></span></p>\n<p align="center" class="MsoNormal" style="text-align: center\; line-height: normal\; margin: 0in 0in 0pt">\n	<span style="font-family: 'tahoma'\, 'sans-serif'\; font-size: 14pt"><font color="#000000">Please RSVP Monday\, March 7<sup>th</sup> by 5pm</font></span></p>\n<p align="center" class="MsoNormal" style="text-align: center\; line-height: normal\; margin: 0in 0in 0pt">\n	<span style="font-family: 'tahoma'\, 'sans-serif'\; font-size: 14pt"><font color="#000000">Chamber Office 435-882-0690<span _fck_bookmark="1" style="display: none">&nbsp\;</span></font></span></p>\n
LOCATION:
UID:e.125.3628
SEQUENCE:3
DTSTAMP:20260422T121827Z
URL:https://members.tooelechamber.com/events/details/chamber-luncheon-03-09-2011-3628
END:VEVENT

END:VCALENDAR
