BEGIN:VCALENDAR
VERSION:2.0
PRODID:-//ChamberMaster//Event Calendar 2.0//EN
METHOD:PUBLISH
X-PUBLISHED-TTL:P3D
REFRESH-INTERVAL:P3D
CALSCALE:GREGORIAN
BEGIN:VEVENT
DTSTART:20090311T180000Z
DTEND:20090311T190000Z
X-MICROSOFT-CDO-ALLDAYEVENT:FALSE
SUMMARY:Chamber Luncheon
DESCRIPTION:Wednesday\, March 11th   12:00 noon to 1pmSponsor: ATI Rowely Operations Tooele County Health Dept./ USU-Extension Auditorium\n 151 North Main St.\, Tooele\n Please RSVP by Monday\, March 9th by 5 pm\n 435-882-0690
X-ALT-DESC;FMTTYPE=text/html:<div align="center"><font size="4">&nbsp\;Wednesday\,&nbsp\;March 11th&nbsp\;&nbsp\; 12:00 noon to 1pm</font></div><div align="center"><font size="4">Sponsor:&nbsp\;ATI&nbsp\;Rowely Operations</font></div><div align="center"><font size="4">&nbsp\;Tooele County Health Dept./ USU-Extension Auditorium<br />&nbsp\;151 North Main St.\, Tooele<br />&nbsp\;Please RSVP by Monday\,&nbsp\;March 9th by 5 pm<br />&nbsp\;435-882-0690</font></div>
LOCATION:
UID:e.125.514
SEQUENCE:3
DTSTAMP:20260424T040003Z
URL:https://members.tooelechamber.com/events/details/chamber-luncheon-03-11-2009-514
END:VEVENT

END:VCALENDAR
