BEGIN:VCALENDAR
VERSION:2.0
PRODID:-//ChamberMaster//Event Calendar 2.0//EN
METHOD:PUBLISH
X-PUBLISHED-TTL:P3D
REFRESH-INTERVAL:P3D
CALSCALE:GREGORIAN
BEGIN:VEVENT
DTSTART;VALUE=DATE:20080312
DTEND;VALUE=DATE:20080313
TRANSP:TRANSPARENT
X-MICROSOFT-CDO-ALLDAYEVENT:TRUE
SUMMARY:Chamber Luncheon
DESCRIPTION:Chamber Monthly LuncheonSponsored by: Zion's BankSpeaker: CeCe Mitchell
X-ALT-DESC;FMTTYPE=text/html:<p>Chamber Monthly Luncheon</p><p>Sponsored by: Zion's Bank</p><p>Speaker: CeCe Mitchell</p>
LOCATION:All-Star Lanes1111 N. 200 W.Tooele
UID:e.125.231
SEQUENCE:3
DTSTAMP:20260424T232025Z
URL:https://members.tooelechamber.com/events/details/chamber-luncheon-03-12-2008-231
END:VEVENT

END:VCALENDAR
