BEGIN:VCALENDAR
VERSION:2.0
PRODID:-//ChamberMaster//Event Calendar 2.0//EN
METHOD:PUBLISH
X-PUBLISHED-TTL:P3D
REFRESH-INTERVAL:P3D
CALSCALE:GREGORIAN
BEGIN:VEVENT
DTSTART:20120328T180000Z
DTEND:20120328T190000Z
X-MICROSOFT-CDO-ALLDAYEVENT:FALSE
SUMMARY:Chamber Luncheon
DESCRIPTION:Chamber Luncheon\n\nWed. March 28th\, 2012\n\n12 noon - 1 p.m.\n\nHost : UMA Legislative Update\n\nSponsored by: US Magnesium\n\n154 South Main\n\nRSVP by Mon. March 26th @ 5pm\n\n882-0690 or email staff@tooelechamber.com
X-ALT-DESC;FMTTYPE=text/html:<span style="font-size: 20px"><strong><u>Chamber Luncheon</u><br />\nWed. March 28th\, 2012<br />\n12 noon - 1 p.m.<br />\nHost : UMA Legislative Update<br />\nSponsored by: US Magnesium<br />\n154 South Main<br />\nRSVP by Mon. March 26th @ 5pm<br />\n882-0690 or email staff@tooelechamber.com</strong></span>
LOCATION:
UID:e.125.4633
SEQUENCE:3
DTSTAMP:20260421T185815Z
URL:https://members.tooelechamber.com/events/details/chamber-luncheon-03-28-2012-4633
END:VEVENT

END:VCALENDAR
