BEGIN:VCALENDAR
VERSION:2.0
PRODID:-//ChamberMaster//Event Calendar 2.0//EN
METHOD:PUBLISH
X-PUBLISHED-TTL:P3D
REFRESH-INTERVAL:P3D
CALSCALE:GREGORIAN
BEGIN:VEVENT
DTSTART:20090408T180000Z
DTEND:20090408T190000Z
X-MICROSOFT-CDO-ALLDAYEVENT:FALSE
SUMMARY:Chamber Luncheon
DESCRIPTION:Speaker:   COL Yolanda E. Dennis-Lowman\, Commander of Tooele Army DepotWednesday\, April 8\n Tooele County Health Dept./ USU-Extension\n 151 North Main St.\, Tooele\n Please RSVP by Monday\, April 7th by 5 pm\n 435-882-0690
X-ALT-DESC;FMTTYPE=text/html:<div align="center"><font size="4">Speaker:&nbsp\;&nbsp\; <p class="MsoNormal" style="margin: 0in 0in 0pt"><font face="Times New Roman"><st1:place w:st="on"><st1:state w:st="on"><span style="font-size: 14pt\; mso-bidi-font-size: 12.0pt">COL</span></st1:state></st1:place><span style="font-size: 14pt\; mso-bidi-font-size: 12.0pt"> Yolanda E. Dennis-Lowman\, Commander of Tooele Army Depot<o:p></o:p></span></font></p></font></div><div align="center"><font size="4">Wednesday\,&nbsp\;April 8</font><font size="4"><br />&nbsp\;Tooele County Health Dept./ USU-Extension<br />&nbsp\;151 North Main St.\, Tooele<br />&nbsp\;Please RSVP by Monday\,&nbsp\;April 7th by 5 pm<br />&nbsp\;435-882-0690</font></div>
LOCATION:Tooele County Health Dept./ USU-Extension 151 North Main St.\, Tooele
UID:e.125.515
SEQUENCE:3
DTSTAMP:20260424T130555Z
URL:https://members.tooelechamber.com/events/details/chamber-luncheon-04-08-2009-515
END:VEVENT

END:VCALENDAR
