BEGIN:VCALENDAR
VERSION:2.0
PRODID:-//ChamberMaster//Event Calendar 2.0//EN
METHOD:PUBLISH
X-PUBLISHED-TTL:P3D
REFRESH-INTERVAL:P3D
CALSCALE:GREGORIAN
BEGIN:VEVENT
DTSTART:20120418T180000Z
DTEND:20120418T190000Z
X-MICROSOFT-CDO-ALLDAYEVENT:FALSE
SUMMARY:Chamber Luncheon
DESCRIPTION:Chamber Luncheon\n\nWed. April 18\, 2012\n\nSponsored by: Ace Disposal\n\nCaterer: Cafe Rio\n\n12pm-1pm\n\nLocation: Chamber Building\n\n                 154 South Main\n\nRSVP by Monday April 16th\n\n435-882-0690 or email staff@tooelchamber.com\n\n$10 for members and $15 for non-members.
X-ALT-DESC;FMTTYPE=text/html:<strong><span style="font-size: 20px">Chamber Luncheon<br />\nWed. April 18\, 2012<br />\nSponsored by: Ace Disposal<br />\nCaterer: Cafe Rio<br />\n12pm-1pm<br />\nLocation: Chamber Building<br />\n&nbsp\;&nbsp\;&nbsp\;&nbsp\;&nbsp\;&nbsp\;&nbsp\;&nbsp\;&nbsp\;&nbsp\;&nbsp\;&nbsp\;&nbsp\;&nbsp\;&nbsp\;&nbsp\; 154 South Main<br />\nRSVP by Monday April 16th<br />\n435-882-0690 or email staff@tooelchamber.com<br />\n$10 for members and $15 for non-members.</span></strong><br />\n<br />\n
LOCATION:
UID:e.125.4787
SEQUENCE:3
DTSTAMP:20260421T154414Z
URL:https://members.tooelechamber.com/events/details/chamber-luncheon-04-18-2012-4787
END:VEVENT

END:VCALENDAR
