BEGIN:VCALENDAR
VERSION:2.0
PRODID:-//ChamberMaster//Event Calendar 2.0//EN
METHOD:PUBLISH
X-PUBLISHED-TTL:P3D
REFRESH-INTERVAL:P3D
CALSCALE:GREGORIAN
BEGIN:VEVENT
DTSTART:20110427T180000Z
DTEND:20110427T190000Z
X-MICROSOFT-CDO-ALLDAYEVENT:FALSE
SUMMARY:Chamber Luncheon
DESCRIPTION:Chamber Luncheon \n\n	Wednesday\, April 27\, 2011 from 12-1pm \n\n	Sponsor: Utah Manufacturers Association\n\n	Legislative Update   \n\n	Deseret Peak Convention Center \n\n	2930 West Hwy 112\, Tooele \n\n	$10 members\, $15 non-members \n\n	Please RSVP Monday\, April 25th by 5pm\n\n	Chamber Office 435-882-0690
X-ALT-DESC;FMTTYPE=text/html:<p align="center" class="MsoNormal" style="text-align: center\; line-height: normal\; margin: 0in 0in 0pt">\n	<b style="mso-bidi-font-weight: normal"><u><span style="font-family: 'tahoma'\, 'sans-serif'\; font-size: 14pt"><font color="#000000">Chamber Luncheon </font></span></u></b></p>\n<p align="center" class="MsoNormal" style="text-align: center\; line-height: normal\; margin: 0in 0in 0pt">\n	<span style="font-family: 'tahoma'\, 'sans-serif'\; font-size: 14pt"><font color="#000000">Wednesday\, April 27\, 2011 from 12-1pm </font></span></p>\n<p align="center" class="MsoNormal" style="text-align: center\; line-height: normal\; margin: 0in 0in 0pt">\n	<span style="font-family: 'tahoma'\, 'sans-serif'\; font-size: 14pt"><font color="#000000">Sponsor:&nbsp\;Utah Manufacturers&nbsp\;Association<br />\n	Legislative Update&nbsp\;<span style="mso-spacerun: yes">&nbsp\;</span><span style="mso-spacerun: yes">&nbsp\;</span></font></span></p>\n<p align="center" class="MsoNormal" style="text-align: center\; line-height: normal\; margin: 0in 0in 0pt">\n	<span style="font-family: 'tahoma'\, 'sans-serif'\; font-size: 14pt"><font color="#000000">Deseret Peak Convention Center </font></span></p>\n<p align="center" class="MsoNormal" style="text-align: center\; line-height: normal\; margin: 0in 0in 0pt">\n	<span style="font-family: 'tahoma'\, 'sans-serif'\; font-size: 14pt"><font color="#000000">2930 West Hwy 112\, Tooele </font></span></p>\n<p align="center" class="MsoNormal" style="text-align: center\; line-height: normal\; margin: 0in 0in 0pt">\n	<span style="font-family: 'tahoma'\, 'sans-serif'\; font-size: 14pt"><font color="#000000">$10 members\, $15 non-members </font></span></p>\n<p align="center" class="MsoNormal" style="text-align: center\; line-height: normal\; margin: 0in 0in 0pt">\n	<span style="font-family: 'tahoma'\, 'sans-serif'\; font-size: 14pt"><font color="#000000">Please RSVP Monday\, April 25<sup>th</sup> by 5pm</font></span></p>\n<p align="center" class="MsoNormal" style="text-align: center\; line-height: normal\; margin: 0in 0in 0pt">\n	<span style="font-family: 'tahoma'\, 'sans-serif'\; font-size: 14pt"><font color="#000000">Chamber Office 435-882-0690<span _fck_bookmark="1" style="display: none">&nbsp\;</span></font></span></p>\n
LOCATION:
UID:e.125.3630
SEQUENCE:3
DTSTAMP:20260422T104216Z
URL:https://members.tooelechamber.com/events/details/chamber-luncheon-04-27-2011-3630
END:VEVENT

END:VCALENDAR
