BEGIN:VCALENDAR
VERSION:2.0
PRODID:-//ChamberMaster//Event Calendar 2.0//EN
METHOD:PUBLISH
X-PUBLISHED-TTL:P3D
REFRESH-INTERVAL:P3D
CALSCALE:GREGORIAN
BEGIN:VEVENT
DTSTART:20100428T180000Z
DTEND:20100428T190000Z
X-MICROSOFT-CDO-ALLDAYEVENT:FALSE
SUMMARY:Chamber Luncheon
DESCRIPTION:Chamber LuncheonWednesday\, April 28\, 2010 @ 12-1pm \nSponsor: Tooele County School District\nLocation: Deseret Peak Convention Center\nCost: $10.00 Members\, \n$15.00 Non-MembersPlease RSVP by Monday April 26th by 5pmIf you have a pre-paid luncheon card\, you still must RSVP
X-ALT-DESC;FMTTYPE=text/html:<div><div style="text-align: center">&nbsp\;</div><div style="text-align: center"><span style="font-size: medium"><div style="text-align: center"><strong><u><span style="font-size: large">Chamber Luncheon</span></u></strong></div>Wednesday\, April&nbsp\;28\, 2010 @&nbsp\;12-1pm</span><span style="font-size: medium">&nbsp\;<br />Sponsor: Tooele County&nbsp\;School District<br />Location: Deseret Peak Convention Center<br />Cost: $10.00 Members\, <br />$15.00 Non-Members</span></div><div style="text-align: center"><span style="font-size: medium">Please RSVP by Monday April 26th by 5pm</span></div><div style="text-align: center"><span style="font-size: medium">If you have a pre-paid luncheon card\, you still must RSVP</span></div></div>
LOCATION:
UID:e.125.2624
SEQUENCE:3
DTSTAMP:20260423T062255Z
URL:https://members.tooelechamber.com/events/details/chamber-luncheon-04-28-2010-2624
END:VEVENT

END:VCALENDAR
