BEGIN:VCALENDAR
VERSION:2.0
PRODID:-//ChamberMaster//Event Calendar 2.0//EN
METHOD:PUBLISH
X-PUBLISHED-TTL:P3D
REFRESH-INTERVAL:P3D
CALSCALE:GREGORIAN
BEGIN:VEVENT
DTSTART:20120509T180000Z
DTEND:20120509T190000Z
X-MICROSOFT-CDO-ALLDAYEVENT:FALSE
SUMMARY:Chamber Luncheon
DESCRIPTION:Chamber Luncheon\n\nWed. May 9\, 2012\n\nHosted by: Oquirrh Hills Pro Shop\n\nSpeaker: Tim Howells Executive Director 1st Tee Utah\, former General Manager of Utah Jazz 1989-1999 & Mayor Pat Dunlavy\n\nCatered by: Denny's\n\n@ Chamber Building 154 South Main Street\, Tooele\n\n12 noon - 1 pm\n\nRSVP by Monday\, May 7\, 2012 @ 5 pm\n\n435-882-0690 or email staff@tooelechamber.com\n\n$10 member or $15 non-members
X-ALT-DESC;FMTTYPE=text/html:<span style="font-size: 20px"><strong><em><u>Chamber Luncheon</u></em><br />\nWed. May 9\, 2012<br />\nHosted by: Oquirrh Hills Pro Shop<br />\nSpeaker: Tim Howells Executive Director 1st Tee Utah\, former General Manager of Utah Jazz 1989-1999 &amp\; Mayor Pat Dunlavy<br />\nCatered by:&nbsp\;Denny&#39\;s<br />\n@ Chamber Building 154 South Main Street\, Tooele<br />\n12 noon - 1 pm<br />\nRSVP by Monday\,&nbsp\;May&nbsp\;7\, 2012 @ 5 pm<br />\n435-882-0690 or email staff@tooelechamber.com<br />\n$10 member or $15 non-members</strong></span><br />\n
LOCATION:
UID:e.125.4642
SEQUENCE:3
DTSTAMP:20260421T140656Z
URL:https://members.tooelechamber.com/events/details/chamber-luncheon-05-09-2012-4642
END:VEVENT

END:VCALENDAR
