BEGIN:VCALENDAR
VERSION:2.0
PRODID:-//ChamberMaster//Event Calendar 2.0//EN
METHOD:PUBLISH
X-PUBLISHED-TTL:P3D
REFRESH-INTERVAL:P3D
CALSCALE:GREGORIAN
BEGIN:VEVENT
DTSTART:20100512T180000Z
DTEND:20100512T190000Z
X-MICROSOFT-CDO-ALLDAYEVENT:FALSE
SUMMARY:Chamber Luncheon
DESCRIPTION:Chamber LuncheonWednesday\, May 12\, 2010 @ 12-1pmSponsor: Utah Manufacturers Association Topic: Federal and State HealthCare Reform\, and Its impact on small business.\nLocation: Deseret Peak Convention Center2930 W. Hwy 112\, Tooele$10.00 Members\,$15.00 Non-MembersMUST RSVP by Monday\, May 10th by 5pmIf you have a prepaid card\, you still must RSVPChamber Office 882-0690
X-ALT-DESC;FMTTYPE=text/html:<div><div style="text-align: center"><span style="font-size: large"><u><strong>Chamber Luncheon</strong></u></span></div><div style="text-align: center"><span style="font-family: Arial"><span style="font-size: large">Wednesday\, May&nbsp\;12\, 2010 @ 12-1pm</span></span></div><div style="text-align: center"><span style="font-family: Arial"><span style="font-size: large">Sponsor: Utah Manufacturers Association</span></span></div><div style="text-align: center"><span style="font-family: Arial"><span style="font-size: large">&nbsp\;Topic: <span style="color: black">Federal and State HealthCare Reform\, and </span></span></span><span style="font-family: Arial"><span style="font-size: large"><span style="color: black">Its impact&nbsp\;on small business.</span></span></span><span style="font-size: medium"><u1:p></u1:p></span><span style="font-family: Arial"><span style="font-size: large"><br />Location: Deseret Peak Convention Center</span></span></div><div style="text-align: center"><span style="font-family: Arial"><span style="font-size: large">2930 W. Hwy 112\, Tooele</span></span></div><div style="text-align: center"><span style="font-family: Arial"><span style="font-size: large">$10.00 Members\,$15.00 Non-Members</span></span></div><div style="text-align: center"><span style="color: #ff0000"><span style="background-color: #ffff00"><span style="font-family: Arial"><span style="font-size: large">MUST RSVP by Monday\, May 10th by 5pm</span></span></span></span></div><div style="text-align: center"><span style="font-family: Arial"><span style="font-size: large"><div style="text-align: center"><span style="color: #ff0000"><span style="background-color: #ffff00"><span style="font-family: Arial"><span style="font-size: large">If you have a prepaid card\, you still must RSVP</span></span></span></span></div></span></span></div><div style="text-align: center"><span style="font-family: Arial"><span style="font-size: large">Chamber Office 882-0690</span></span></div></div>
LOCATION:
UID:e.125.2625
SEQUENCE:3
DTSTAMP:20260423T062301Z
URL:https://members.tooelechamber.com/events/details/chamber-luncheon-05-12-2010-2625
END:VEVENT

END:VCALENDAR
