BEGIN:VCALENDAR
VERSION:2.0
PRODID:-//ChamberMaster//Event Calendar 2.0//EN
METHOD:PUBLISH
X-PUBLISHED-TTL:P3D
REFRESH-INTERVAL:P3D
CALSCALE:GREGORIAN
BEGIN:VEVENT
DTSTART;VALUE=DATE:20090513
DTEND;VALUE=DATE:20090514
TRANSP:TRANSPARENT
X-MICROSOFT-CDO-ALLDAYEVENT:TRUE
SUMMARY:Chamber Luncheon
DESCRIPTION:Wednesday\, May 13th  12:00 noon to 1pmSponsor: Rocky Mountain Power \n Tooele County Health Dept./USU Extension Auditorium\n 151 North Main St.\, Tooele\n Please RSVP by Monday\, May 11th by 5 pm\n 435-882-0690
X-ALT-DESC;FMTTYPE=text/html:<div align="center"><font size="4">&nbsp\;Wednesday\,&nbsp\;May 13th&nbsp\; 12:00 noon to 1pm</font></div><div align="center"><font size="4">Sponsor:&nbsp\;Rocky Mountain Power&nbsp\;<br />&nbsp\;Tooele County Health Dept./USU Extension Auditorium<br />&nbsp\;151 North Main St.\, Tooele<br />&nbsp\;Please RSVP by Monday\,&nbsp\;May 11th by 5 pm<br />&nbsp\;435-882-0690</font></div>
LOCATION:
UID:e.125.516
SEQUENCE:3
DTSTAMP:20260423T232005Z
URL:https://members.tooelechamber.com/events/details/chamber-luncheon-05-13-2009-516
END:VEVENT

END:VCALENDAR
