BEGIN:VCALENDAR
VERSION:2.0
PRODID:-//ChamberMaster//Event Calendar 2.0//EN
METHOD:PUBLISH
X-PUBLISHED-TTL:P3D
REFRESH-INTERVAL:P3D
CALSCALE:GREGORIAN
BEGIN:VEVENT
DTSTART;VALUE=DATE:20080514
DTEND;VALUE=DATE:20080515
TRANSP:TRANSPARENT
X-MICROSOFT-CDO-ALLDAYEVENT:TRUE
SUMMARY:Chamber Luncheon
DESCRIPTION:Chamber Monthly LuncheonSponsored by: TBDSpeaker: Deseret Chemical Depot Commander Pellisier
X-ALT-DESC;FMTTYPE=text/html:<div>Chamber Monthly Luncheon</div><div>Sponsored by: TBD</div><div>Speaker: Deseret Chemical Depot Commander Pellisier</div>
LOCATION:All-Star Lanes1111 N. 200 WestTooele
UID:e.125.233
SEQUENCE:3
DTSTAMP:20260424T185115Z
URL:https://members.tooelechamber.com/events/details/chamber-luncheon-05-14-2008-233
END:VEVENT

END:VCALENDAR
