BEGIN:VCALENDAR
VERSION:2.0
PRODID:-//ChamberMaster//Event Calendar 2.0//EN
METHOD:PUBLISH
X-PUBLISHED-TTL:P3D
REFRESH-INTERVAL:P3D
CALSCALE:GREGORIAN
BEGIN:VEVENT
DTSTART:20120523T180000Z
DTEND:20120523T190000Z
X-MICROSOFT-CDO-ALLDAYEVENT:FALSE
SUMMARY:Chamber Luncheon
DESCRIPTION:Chamber Luncheon\n\nWed. May 23\, 2012\n\nSponsored by: Tooele County Health Dept. &\n\n                       The Tooele County Chamber of Commerce Tobacco Prevention Grant\n\n12 Noon- 1 pm\n\n154 South Main St.\n\nChamber Building\n\nRSVP 882-0690 or email: staff@tooelechamber.com\n\nFree Luncheon\, Limited to 70 reservations\n\nCatered by: Richard's BBQ
X-ALT-DESC;FMTTYPE=text/html:<span style="font-size: 22px"><strong><u>Chamber Luncheon</u></strong><br />\nWed. May 23\, 2012<br />\nSponsored by: Tooele County Health Dept. &amp\;<br />\n&nbsp\;&nbsp\;&nbsp\;&nbsp\;&nbsp\;&nbsp\;&nbsp\;&nbsp\;&nbsp\;&nbsp\;&nbsp\;&nbsp\;&nbsp\;&nbsp\;&nbsp\;&nbsp\;&nbsp\;&nbsp\;&nbsp\;&nbsp\;&nbsp\;&nbsp\;&nbsp\;The Tooele County Chamber of Commerce&nbsp\;Tobacco&nbsp\;Prevention Grant<br />\n12 Noon- 1 pm<br />\n154 South Main St.<br />\nChamber Building<br />\nRSVP 882-0690 or email: staff@tooelechamber.com<br />\nFree Luncheon\, Limited to 70 reservations<br />\nCatered by: Richard&#39\;s BBQ</span>
LOCATION:
UID:e.125.4809
SEQUENCE:3
DTSTAMP:20260421T140657Z
URL:https://members.tooelechamber.com/events/details/chamber-luncheon-05-23-2012-4809
END:VEVENT

END:VCALENDAR
