BEGIN:VCALENDAR
VERSION:2.0
PRODID:-//ChamberMaster//Event Calendar 2.0//EN
METHOD:PUBLISH
X-PUBLISHED-TTL:P3D
REFRESH-INTERVAL:P3D
CALSCALE:GREGORIAN
BEGIN:VEVENT
DTSTART:20110525T180000Z
DTEND:20110525T190000Z
X-MICROSOFT-CDO-ALLDAYEVENT:FALSE
SUMMARY:Chamber Luncheon
DESCRIPTION:Chamber Luncheon \n\n	Wednesday\, May 25\, 2011 from 12-1pm \n\n	Sponsor: Tooele County Business Resource Center \n\n	& Tooele County Economic Development     \n\n	Deseret Peak Convention Center \n\n	2930 West Hwy 112\, Tooele \n\n	$10 members\, $15 non-members \n\n	Please RSVP Monday\, May 23rd by 5pm\n\n	Chamber Office 435-882-0690
X-ALT-DESC;FMTTYPE=text/html:<p align="center" class="MsoNormal" style="text-align: center\; line-height: normal\; margin: 0in 0in 0pt">\n	<b style="mso-bidi-font-weight: normal"><u><span style="font-family: 'tahoma'\, 'sans-serif'\; font-size: 14pt"><font color="#000000">Chamber Luncheon <o:p></o:p></font></span></u></b></p>\n<p align="center" class="MsoNormal" style="text-align: center\; line-height: normal\; margin: 0in 0in 0pt">\n	<span style="font-family: 'tahoma'\, 'sans-serif'\; font-size: 14pt"><font color="#000000">Wednesday\, May 25\, 2011 from 12-1pm <o:p></o:p></font></span></p>\n<p align="center" class="MsoNormal" style="text-align: center\; line-height: normal\; margin: 0in 0in 0pt">\n	<span style="font-family: 'tahoma'\, 'sans-serif'\; font-size: 14pt"><font color="#000000">Sponsor: Tooele County Business Resource Center <o:p></o:p></font></span></p>\n<p align="center" class="MsoNormal" style="text-align: center\; line-height: normal\; margin: 0in 0in 0pt">\n	<span style="font-family: 'tahoma'\, 'sans-serif'\; font-size: 14pt"><font color="#000000">&amp\; Tooele County Economic Development <span style="mso-spacerun: yes">&nbsp\;</span><span style="mso-spacerun: yes">&nbsp\;</span><span style="mso-spacerun: yes">&nbsp\;</span><span style="mso-spacerun: yes">&nbsp\;</span><o:p></o:p></font></span></p>\n<p align="center" class="MsoNormal" style="text-align: center\; line-height: normal\; margin: 0in 0in 0pt">\n	<span style="font-family: 'tahoma'\, 'sans-serif'\; font-size: 14pt"><font color="#000000">Deseret Peak Convention Center <o:p></o:p></font></span></p>\n<p align="center" class="MsoNormal" style="text-align: center\; line-height: normal\; margin: 0in 0in 0pt">\n	<span style="font-family: 'tahoma'\, 'sans-serif'\; font-size: 14pt"><font color="#000000">2930 West Hwy 112\, Tooele <o:p></o:p></font></span></p>\n<p align="center" class="MsoNormal" style="text-align: center\; line-height: normal\; margin: 0in 0in 0pt">\n	<span style="font-family: 'tahoma'\, 'sans-serif'\; font-size: 14pt"><font color="#000000">$10 members\, $15 non-members <o:p></o:p></font></span></p>\n<p align="center" class="MsoNormal" style="text-align: center\; line-height: normal\; margin: 0in 0in 0pt">\n	<span style="font-family: 'tahoma'\, 'sans-serif'\; font-size: 14pt"><font color="#000000">Please RSVP Monday\, May 23<sup>rd</sup> by 5pm<o:p></o:p></font></span></p>\n<p align="center" class="MsoNormal" style="text-align: center\; line-height: normal\; margin: 0in 0in 0pt">\n	<span style="font-family: 'tahoma'\, 'sans-serif'\; font-size: 14pt"><font color="#000000">Chamber Office 435-882-0690<span _fck_bookmark="1" style="display: none">&nbsp\;</span><o:p></o:p></font></span></p>\n
LOCATION:
UID:e.125.3632
SEQUENCE:3
DTSTAMP:20260422T091052Z
URL:https://members.tooelechamber.com/events/details/chamber-luncheon-05-25-2011-3632
END:VEVENT

END:VCALENDAR
