BEGIN:VCALENDAR
VERSION:2.0
PRODID:-//ChamberMaster//Event Calendar 2.0//EN
METHOD:PUBLISH
X-PUBLISHED-TTL:P3D
REFRESH-INTERVAL:P3D
CALSCALE:GREGORIAN
BEGIN:VEVENT
DTSTART:20100526T180000Z
DTEND:20100526T190000Z
X-MICROSOFT-CDO-ALLDAYEVENT:FALSE
SUMMARY:Chamber Luncheon
DESCRIPTION:Chamber LuncheonWednesday\, May 26\, 2010 @ 12-1pmSponsor: Mountain West Medical CenterSpeaker: Col. Dennis-LohmanCommander of Tooele Army DepotLocation: Deseret Peak Convention Center2930 W. Hwy 112\, Tooele $10 members\, $15 non-membersPLEASE RSVP Monday\, May 24th by 5pmIf you have a pre-paid luncheon card you still must RSVP
X-ALT-DESC;FMTTYPE=text/html:<div style="text-align: center"><span style="font-size: large"><u><strong>Chamber Luncheon</strong></u></span></div><div style="text-align: center"><span style="font-size: medium">Wednesday\, May 26\, 2010 @ 12-1pm</span></div><div style="text-align: center"><span style="font-size: medium">Sponsor: Mountain West Medical Center</span></div><div style="text-align: center"><span style="font-size: medium">Speaker: Col. Dennis-Lohman</span></div><div style="text-align: center"><span style="font-size: medium">Commander of Tooele Army Depot</span></div><div style="text-align: center"><span style="font-size: medium">Location: Deseret Peak Convention Center</span></div><div style="text-align: center"><span style="font-size: medium">2930 W. Hwy 112\, Tooele </span></div><div style="text-align: center"><span style="font-size: medium">$10 members\, $15 non-members</span></div><div style="text-align: center"><span style="font-size: medium">PLEASE RSVP Monday\, May 24th by 5pm</span></div><div style="text-align: center"><span style="font-size: medium">If you have a pre-paid luncheon card you still must RSVP</span></div>
LOCATION:
UID:e.125.3164
SEQUENCE:3
DTSTAMP:20260423T062256Z
URL:https://members.tooelechamber.com/events/details/chamber-luncheon-05-26-2010-3164
END:VEVENT

END:VCALENDAR
