BEGIN:VCALENDAR
VERSION:2.0
PRODID:-//ChamberMaster//Event Calendar 2.0//EN
METHOD:PUBLISH
X-PUBLISHED-TTL:P3D
REFRESH-INTERVAL:P3D
CALSCALE:GREGORIAN
BEGIN:VEVENT
DTSTART:20110608T180000Z
DTEND:20110608T190000Z
X-MICROSOFT-CDO-ALLDAYEVENT:FALSE
SUMMARY:Chamber Luncheon
DESCRIPTION:Chamber Luncheon \n\n	Wednesday\, June 8\, 2011 from 12-1pm\n\n	Sponsor: Utah State University Tooele Regional Campus\n\n	Location: 1021 West Vine Street\, Tooele\n\n	$10 members\, $15 non-members\n\n	Please RSVP Monday\, June 6th by 5pm\n\n	Chamber Office 435-882-0690
X-ALT-DESC;FMTTYPE=text/html:<p style="text-align: center">\n	<u><strong><span style="font-size: 20px">Chamber Luncheon </span></strong></u></p>\n<p style="text-align: center">\n	<span style="font-size: 20px">Wednesday\, June 8\, 2011 from 12-1pm<br />\n	Sponsor: Utah State University Tooele Regional Campus<br />\n	Location: 1021 West Vine Street\, Tooele<br />\n	$10 members\, $15 non-members<br />\n	Please RSVP Monday\, June 6th by 5pm<br />\n	Chamber Office 435-882-0690</span></p>\n
LOCATION:
UID:e.125.3636
SEQUENCE:3
DTSTAMP:20260422T074445Z
URL:https://members.tooelechamber.com/events/details/chamber-luncheon-06-08-2011-3636
END:VEVENT

END:VCALENDAR
