BEGIN:VCALENDAR
VERSION:2.0
PRODID:-//ChamberMaster//Event Calendar 2.0//EN
METHOD:PUBLISH
X-PUBLISHED-TTL:P3D
REFRESH-INTERVAL:P3D
CALSCALE:GREGORIAN
BEGIN:VEVENT
DTSTART:20100811T180000Z
DTEND:20100811T190000Z
X-MICROSOFT-CDO-ALLDAYEVENT:FALSE
SUMMARY:Chamber Luncheon
DESCRIPTION:Chamber Luncheon Wednesday\, August 11\, 2010 @ NoonSponsor: Rocky Mountain Care Location: Deseret Peak Complex2930 West Hwy 112\, Tooele $10 members\, $15 non-membersPLEASE RSVP Monday\, Aug. 9th by 5pm
X-ALT-DESC;FMTTYPE=text/html:<div style="text-align: center"><strong><u><span style="font-size: large">Chamber Luncheon </span></u></strong></div><div style="text-align: center"><span style="font-size: large">Wednesday\, August 11\, 2010 @ Noon</span></div><div style="text-align: center"><span style="font-size: large">Sponsor: Rocky Mountain Care </span></div><div style="text-align: center"><span style="font-size: large">Location: Deseret Peak Complex</span></div><div style="text-align: center"><span style="font-size: large">2930 West Hwy 112\, Tooele </span></div><div style="text-align: center"><span style="font-size: large">$10 members\, $15 non-members</span></div><div style="text-align: center"><span style="font-size: large">PLEASE RSVP Monday\, Aug. 9th by 5pm</span></div>
LOCATION:
UID:e.125.3195
SEQUENCE:3
DTSTAMP:20260422T234151Z
URL:https://members.tooelechamber.com/events/details/chamber-luncheon-08-11-2010-3195
END:VEVENT

END:VCALENDAR
