BEGIN:VCALENDAR
VERSION:2.0
PRODID:-//ChamberMaster//Event Calendar 2.0//EN
METHOD:PUBLISH
X-PUBLISHED-TTL:P3D
REFRESH-INTERVAL:P3D
CALSCALE:GREGORIAN
BEGIN:VEVENT
DTSTART:20120822T180000Z
DTEND:20120822T190000Z
X-MICROSOFT-CDO-ALLDAYEVENT:FALSE
SUMMARY:Chamber Luncheon
DESCRIPTION:Chamber Luncheon\n\nWed. August 22\, 2012\n\n12 pm- 1 pm\n\nHosted by: URS\n\nSpeakers: Tooele Chemical Depot Commander & Tooele Army Depot Commander Briefing\n\n@ Chamber Office 154 Main Street.
X-ALT-DESC;FMTTYPE=text/html:<span style="font-size: 20px"><strong>Chamber Luncheon<br />\nWed. August 22\, 2012<br />\n12 pm- 1 pm<br />\nHosted by: URS<br />\nSpeakers: Tooele Chemical Depot Commander &amp\; Tooele Army Depot Commander Briefing<br />\n@ Chamber Office 154 Main Street.</strong></span>
LOCATION:
UID:e.125.4657
SEQUENCE:3
DTSTAMP:20260421T091506Z
URL:https://members.tooelechamber.com/events/details/chamber-luncheon-08-22-2012-4657
END:VEVENT

END:VCALENDAR
