BEGIN:VCALENDAR
VERSION:2.0
PRODID:-//ChamberMaster//Event Calendar 2.0//EN
METHOD:PUBLISH
X-PUBLISHED-TTL:P3D
REFRESH-INTERVAL:P3D
CALSCALE:GREGORIAN
BEGIN:VEVENT
DTSTART:20110824T180000Z
DTEND:20110824T190000Z
X-MICROSOFT-CDO-ALLDAYEVENT:FALSE
SUMMARY:Chamber Luncheon
DESCRIPTION:Chamber Luncheon \n\n	Wednesday\, August 24\, 2011 from 12-1pm\n\n	Sponsor: SelectHealth\n\n	Deseret Peak Convention Center\n\n	2930 West Hwy 112\, Tooele\n\n	$10 members\, $15 non-members\n\n	RSVP REQUIRED BY: Monday\, August 22nd by 5pm\n\n	Chamber office 435-882-0690
X-ALT-DESC;FMTTYPE=text/html:<p style="text-align: center">\n	<span style="font-size: 22px"><strong>Chamber Luncheon </strong><br />\n	Wednesday\, August 24\, 2011 from 12-1pm<br />\n	Sponsor: SelectHealth<br />\n	Deseret Peak Convention Center<br />\n	2930 West Hwy 112\, Tooele<br />\n	$10 members\, $15 non-members<br />\n	RSVP REQUIRED BY: Monday\, August 22nd by 5pm<br />\n	Chamber office 435-882-0690</span><br />\n	&nbsp\;</p>\n
LOCATION:
UID:e.125.3861
SEQUENCE:3
DTSTAMP:20260422T043525Z
URL:https://members.tooelechamber.com/events/details/chamber-luncheon-08-24-2011-3861
END:VEVENT

END:VCALENDAR
