BEGIN:VCALENDAR
VERSION:2.0
PRODID:-//ChamberMaster//Event Calendar 2.0//EN
METHOD:PUBLISH
X-PUBLISHED-TTL:P3D
REFRESH-INTERVAL:P3D
CALSCALE:GREGORIAN
BEGIN:VEVENT
DTSTART:20100915T180000Z
DTEND:20100915T190000Z
X-MICROSOFT-CDO-ALLDAYEVENT:FALSE
SUMMARY:Chamber Luncheon
DESCRIPTION:Chamber Luncheon \n\n	Wednesday\, September 15\, 2010\n\n	Sponsor: Tooele City \n\n	Location: Oquirrh Hills Golf Course\n\n	1255 East Vine Street\, Tooele  \n\n	$10 members\, $15 non-members\n\n	PLEASE RSVP Monday 13th by 5pm
X-ALT-DESC;FMTTYPE=text/html:<div style="text-align: center">\n	<strong><u><span style="font-size: large">Chamber Luncheon </span></u></strong></div>\n<div style="text-align: center">\n	<span style="font-size: large">Wednesday\, September 15\, 2010</span></div>\n<div style="text-align: center">\n	<span style="font-size: large">Sponsor: Tooele City </span></div>\n<div style="text-align: center">\n	<span style="font-size: large">Location:&nbsp\;Oquirrh Hills Golf Course<br />\n	1255 East Vine Street\, Tooele &nbsp\;</span></div>\n<div style="text-align: center">\n	<span style="font-size: large">$10 members\, $15 non-members</span></div>\n<div style="text-align: center">\n	<span style="font-size: large">PLEASE RSVP Monday 13th by 5pm</span></div>\n
LOCATION:
UID:e.125.3198
SEQUENCE:3
DTSTAMP:20260422T215911Z
URL:https://members.tooelechamber.com/events/details/chamber-luncheon-09-15-2010-3198
END:VEVENT

END:VCALENDAR
