BEGIN:VCALENDAR
VERSION:2.0
PRODID:-//ChamberMaster//Event Calendar 2.0//EN
METHOD:PUBLISH
X-PUBLISHED-TTL:P3D
REFRESH-INTERVAL:P3D
CALSCALE:GREGORIAN
BEGIN:VEVENT
DTSTART:20080917T180000Z
DTEND:20080917T190000Z
X-MICROSOFT-CDO-ALLDAYEVENT:FALSE
SUMMARY:Chamber Luncheon
DESCRIPTION:September LuncheonWednesday\, September 17th- Noon-1 pmPlace: All Star Lanes1111 North 200 West\, TooeleSponsor: Utah State UniversityMembers: $10Non-members:$15Please RSVP by Monday\, September 15th.435-882-0690
X-ALT-DESC;FMTTYPE=text/html:<div style="margin: 0in 0in 0pt" align="center"><strong><font size="4">September Luncheon</font></strong></div><div style="margin: 0in 0in 0pt" align="center"><font size="4">Wednesday\, September 17<sup>th</sup>- Noon-1 pm</font></div><div style="margin: 0in 0in 0pt" align="center"><font size="4">Place: All Star Lanes</font></div><div style="margin: 0in 0in 0pt" align="center"><font size="4">1111 North 200 West\, Tooele</font></div><div style="margin: 0in 0in 0pt" align="center"><font size="4">Sponsor: Utah State University</font></div><div style="margin: 0in 0in 0pt" align="center"><font size="4">Members: $10</font></div><div style="margin: 0in 0in 0pt" align="center"><font size="4">Non-members:$15</font></div><div style="margin: 0in 0in 0pt" align="center"><font size="4">Please RSVP by Monday\, September 15<sup>th</sup>.</font></div><div style="margin: 0in 0in 0pt" align="center"><font size="4">435-882-0690</font></div>
LOCATION:
UID:e.125.460
SEQUENCE:3
DTSTAMP:20260424T135201Z
URL:https://members.tooelechamber.com/events/details/chamber-luncheon-09-17-2008-460
END:VEVENT

END:VCALENDAR
