BEGIN:VCALENDAR
VERSION:2.0
PRODID:-//ChamberMaster//Event Calendar 2.0//EN
METHOD:PUBLISH
X-PUBLISHED-TTL:P3D
REFRESH-INTERVAL:P3D
CALSCALE:GREGORIAN
BEGIN:VEVENT
DTSTART:20090923T180000Z
DTEND:20090923T190000Z
X-MICROSOFT-CDO-ALLDAYEVENT:FALSE
SUMMARY:Chamber Luncheon
DESCRIPTION:Chamber LuncheonSponsored by Tooele County- Deseret Peak Complex
X-ALT-DESC;FMTTYPE=text/html:<div>Chamber Luncheon</div><div>Sponsored by Tooele County- Deseret Peak Complex</div>
LOCATION:Deseret Peak ComplexNew Convention Center
UID:e.125.2554
SEQUENCE:3
DTSTAMP:20260423T181702Z
URL:https://members.tooelechamber.com/events/details/chamber-luncheon-09-23-2009-2554
END:VEVENT

END:VCALENDAR
