BEGIN:VCALENDAR
VERSION:2.0
PRODID:-//ChamberMaster//Event Calendar 2.0//EN
METHOD:PUBLISH
X-PUBLISHED-TTL:P3D
REFRESH-INTERVAL:P3D
CALSCALE:GREGORIAN
BEGIN:VEVENT
DTSTART:20121024T180000Z
DTEND:20121024T190000Z
X-MICROSOFT-CDO-ALLDAYEVENT:FALSE
SUMMARY:Chamber Luncheon
DESCRIPTION:Chamber Luncheon\n\n	Wednesday\, October 24\,2012\n\n	@ 12pm (Noon)\n\n	Hosted by: National Guard\n\n	@Chamber Building\n\n	Catered by: Denny's\n\n	154 South Main Street\, Tooele\n\n	RSVP By October 22nd.\n\n	882-0690 or staff@tooelechamber.com\n\n	 \n\n	Click here to edit...
X-ALT-DESC;FMTTYPE=text/html:<div style="color: gray">\n	&nbsp\;<span style="font-weight: bold\; text-decoration: underline\; text-underline: single\; language: en-us"><span style="font-size: 16pt"><span style="color: blue"><span style="font-family: arial">Chamber Luncheon</span></span></span></span><br />\n	<span style="language: en-us"><span style="font-size: 16pt"><span style="font-family: arial">Wednesday\, October 24\,2012<br />\n	@ 12pm (Noon)<br />\n	Hosted by: National Guard<br />\n	@Chamber Building</span></span></span><br />\n	<span style="language: en-us"><span style="font-size: 16pt"><span style="font-family: arial">Catered by: Denny&rsquo\;s</span></span></span><br />\n	<span style="language: en-us"><span style="font-size: 16pt"><span style="font-family: arial">154 South Main Street\, Tooele</span></span></span><br />\n	<span style="language: en-us"><span style="font-size: 16pt"><span style="font-family: arial">RSVP By October 22nd.</span></span></span><br />\n	<span style="language: en-us"><span style="font-size: 16pt"><span style="font-family: arial">882-0690 or staff@tooelechamber.com</span></span></span><br />\n	&nbsp\;<br />\n	Click here to edit...</div>\n
LOCATION:
UID:e.125.4934
SEQUENCE:3
DTSTAMP:20260421T052048Z
URL:https://members.tooelechamber.com/events/details/chamber-luncheon-10-24-2012-4934
END:VEVENT

END:VCALENDAR
