BEGIN:VCALENDAR
VERSION:2.0
PRODID:-//ChamberMaster//Event Calendar 2.0//EN
METHOD:PUBLISH
X-PUBLISHED-TTL:P3D
REFRESH-INTERVAL:P3D
CALSCALE:GREGORIAN
BEGIN:VEVENT
DTSTART:20111026T180000Z
DTEND:20111026T190000Z
X-MICROSOFT-CDO-ALLDAYEVENT:FALSE
SUMMARY:Chamber Luncheon
DESCRIPTION:Board of Directors Candidate Luncheon \n\n	Wednesday\, October 26\, 2011 from 12-1pm\n\n	Sponsor: Chamber of Commerce\n\n	Deseret Peak Convention Center\n\n	2930 West Highway 112\, Tooele\n\n	$10 Members\, $15 Non-members\n\n	RSVP REQUIRED BY: Monday\, Oct. 24th by 5pm\n\n	Chamber Office 435-882-0690 or chamber@tooelechamber.com
X-ALT-DESC;FMTTYPE=text/html:<p style="text-align: center">\n	<span style="font-size: 20px"><u><strong>Board&nbsp\;of Directors&nbsp\;Candidate Luncheon </strong></u><br />\n	Wednesday\, October 26\, 2011 from 12-1pm<br />\n	Sponsor: Chamber of Commerce<br />\n	Deseret Peak Convention Center<br />\n	2930 West Highway 112\, Tooele<br />\n	$10 Members\, $15 Non-members<br />\n	RSVP REQUIRED BY: Monday\, Oct. 24th by 5pm<br />\n	Chamber Office 435-882-0690 or <a href="mailto:chamber@tooelechamber.com">chamber@tooelechamber.com</a> </span></p>\n
LOCATION:
UID:e.125.3884
SEQUENCE:3
DTSTAMP:20260422T013425Z
URL:https://members.tooelechamber.com/events/details/chamber-luncheon-10-26-2011-3884
END:VEVENT

END:VCALENDAR
