BEGIN:VCALENDAR
VERSION:2.0
PRODID:-//ChamberMaster//Event Calendar 2.0//EN
METHOD:PUBLISH
X-PUBLISHED-TTL:P3D
REFRESH-INTERVAL:P3D
CALSCALE:GREGORIAN
BEGIN:VEVENT
DTSTART:20101110T190000Z
DTEND:20101110T200000Z
X-MICROSOFT-CDO-ALLDAYEVENT:FALSE
SUMMARY:Chamber Luncheon
DESCRIPTION:Chamber Luncheon \n\n	Wednesday\, November 10\, 2010 from 12-1pm\n\n	Sponsor: MostDon't.org\, TIPP\n\n	Location: Community Learning Center\n\n	211 South Tooele Blvd\, Tooele\n\n	NO CHARGE!! \n\n	WE STILL NEED RSVP'S FOR THE CATERER'S. \n\n	PLEASE RSVP MONDAY\, NOV. 8TH BY 5PM\n\n	Chamber Office (435)882-0690
X-ALT-DESC;FMTTYPE=text/html:<p style="text-align: center">\n	<span style="font-size: 22px"><strong><u>Chamber Luncheon </u></strong><br />\n	Wednesday\, November 10\, 2010 from 12-1pm<br />\n	Sponsor: MostDon&#39\;t.org\, TIPP<br />\n	Location:&nbsp\;Community Learning Center<br />\n	211 South Tooele Blvd\, Tooele<br />\n	<span style="color: #ff0000"><span style="background-color: #ffff00">NO CHARGE!! </span><br />\n	<span style="background-color: #ffff00">WE STILL NEED RSVP&#39\;S FOR THE CATERER&#39\;S. </span><br />\n	<span style="background-color: #ffff00">PLEASE RSVP MONDAY\, NOV. 8TH BY 5PM</span></span><br />\n	Chamber Office (435)882-0690</span></p>\n
LOCATION:
UID:e.125.3267
SEQUENCE:3
DTSTAMP:20260422T184839Z
URL:https://members.tooelechamber.com/events/details/chamber-luncheon-11-10-2010-3267
END:VEVENT

END:VCALENDAR
