BEGIN:VCALENDAR
VERSION:2.0
PRODID:-//ChamberMaster//Event Calendar 2.0//EN
METHOD:PUBLISH
X-PUBLISHED-TTL:P3D
REFRESH-INTERVAL:P3D
CALSCALE:GREGORIAN
BEGIN:VEVENT
DTSTART:20091118T190000Z
DTEND:20091118T200000Z
X-MICROSOFT-CDO-ALLDAYEVENT:FALSE
SUMMARY:Chamber Luncheon
DESCRIPTION:Wednesday\, November 18Sponsor: Utah State University\n Speaker : Utah State UniversityUtah State University1201 W. Vine Street\, Tooele\n Please RSVP by Monday\, November 16th by 5 pm\n 435-882-0690
X-ALT-DESC;FMTTYPE=text/html:<div align="center"><font size="4">&nbsp\;Wednesday\,&nbsp\;November&nbsp\;18</font></div><div align="center"><font size="4">Sponsor:&nbsp\;Utah State University<br />&nbsp\;Speaker : Utah State University</font></div><div align="center"><font size="4"><div align="center"><font size="4">Utah State University</font></div></font></div><div align="center"><font size="4">1201&nbsp\;W. Vine Street\, Tooele<br />&nbsp\;Please RSVP by Monday\,&nbsp\;November 16th by 5 pm<br />&nbsp\;435-882-0690</font></div><div align="center">&nbsp\;</div>
LOCATION:
UID:e.125.521
SEQUENCE:3
DTSTAMP:20260423T134039Z
URL:https://members.tooelechamber.com/events/details/chamber-luncheon-11-18-2009-521
END:VEVENT

END:VCALENDAR
